BEGIN:VCALENDAR
VERSION:2.0
PRODID:-//Agape Tactical - ECPv6.15.20//NONSGML v1.0//EN
CALSCALE:GREGORIAN
METHOD:PUBLISH
X-WR-CALNAME:Agape Tactical
X-ORIGINAL-URL:https://agapetactical.com
X-WR-CALDESC:Events for Agape Tactical
REFRESH-INTERVAL;VALUE=DURATION:PT1H
X-Robots-Tag:noindex
X-PUBLISHED-TTL:PT1H
BEGIN:VTIMEZONE
TZID:America/Chicago
BEGIN:DAYLIGHT
TZOFFSETFROM:-0600
TZOFFSETTO:-0500
TZNAME:CDT
DTSTART:20220313T080000
END:DAYLIGHT
BEGIN:STANDARD
TZOFFSETFROM:-0500
TZOFFSETTO:-0600
TZNAME:CST
DTSTART:20221106T070000
END:STANDARD
BEGIN:DAYLIGHT
TZOFFSETFROM:-0600
TZOFFSETTO:-0500
TZNAME:CDT
DTSTART:20230312T080000
END:DAYLIGHT
BEGIN:STANDARD
TZOFFSETFROM:-0500
TZOFFSETTO:-0600
TZNAME:CST
DTSTART:20231105T070000
END:STANDARD
BEGIN:DAYLIGHT
TZOFFSETFROM:-0600
TZOFFSETTO:-0500
TZNAME:CDT
DTSTART:20240310T080000
END:DAYLIGHT
BEGIN:STANDARD
TZOFFSETFROM:-0500
TZOFFSETTO:-0600
TZNAME:CST
DTSTART:20241103T070000
END:STANDARD
END:VTIMEZONE
BEGIN:VEVENT
DTSTART;TZID=America/Chicago:20230615T080000
DTEND;TZID=America/Chicago:20230615T170000
DTSTAMP:20260421T140248
CREATED:20230526T103736Z
LAST-MODIFIED:20230526T103827Z
UID:14751-1686816000-1686848400@agapetactical.com
SUMMARY:Armed Guard Class
DESCRIPTION:Upon completion of this 16-hour course\, students will be able to apply for a TN Armed Guard License with the state of Tennessee. Day 1 is classroom\, day 2 is range. Written and firing exams must be passed with a minimum proficiency of 70%. Students may qualify with up to four weapons and must carry the weapon(s) with which they qualify. \nRequired class gear includes: Pistol\, strong-side holster\, mag pouch\, three magazines\, 200 rounds of ammo\, belt\, and eye/ear protection. \nClass min/max: 10/unlimited \nCancellation and Rescheduling Policy \nA full refund is available for those who give a minimum of 48 hours notice.  Those who give less than 48 hours notice may be credited one-half the original course fee.  “No-shows” will not be allowed a credit or refund. \nIt is the student’s responsibility to register for a future class if he or she cannot attend the originally scheduled class.  In the rare event a class is rescheduled\, you will be automatically enrolled in the next open class.  We will contact you to confirm this. \nSafety Policy \nGiven Agape Tactical’s vigilant focus on Firearms Safety\, we do not allow the use of appendix or inside-the-waistband (IWB) holsters in our Tactical Classes.  (Rule 2:  Always keep the muzzle pointed in a safe direction.)  If you do not have a strong side outside-the-waistband (OWB) holster we will loan you one for the class. \nAgape Tactical and its representatives reserve the right\, indeed the duty\, to refuse service or to remove individuals who operate in an unsafe or inappropriate manner.  Agape Tactical cannot accept applicants who are currently being treated for post-traumatic stress syndrome (PTSD).
URL:https://agapetactical.com/class-calendar/armed-guard-class-2/
LOCATION:Montgomery Bell Academy\, 4001 Harding Road\, Nashville\, TN\, 37205
CATEGORIES:Active Shooter Response
END:VEVENT
END:VCALENDAR