BEGIN:VCALENDAR
VERSION:2.0
PRODID:-//Agape Tactical - ECPv6.15.20//NONSGML v1.0//EN
CALSCALE:GREGORIAN
METHOD:PUBLISH
X-WR-CALNAME:Agape Tactical
X-ORIGINAL-URL:https://agapetactical.com
X-WR-CALDESC:Events for Agape Tactical
REFRESH-INTERVAL;VALUE=DURATION:PT1H
X-Robots-Tag:noindex
X-PUBLISHED-TTL:PT1H
BEGIN:VTIMEZONE
TZID:America/Chicago
BEGIN:DAYLIGHT
TZOFFSETFROM:-0600
TZOFFSETTO:-0500
TZNAME:CDT
DTSTART:20220313T080000
END:DAYLIGHT
BEGIN:STANDARD
TZOFFSETFROM:-0500
TZOFFSETTO:-0600
TZNAME:CST
DTSTART:20221106T070000
END:STANDARD
BEGIN:DAYLIGHT
TZOFFSETFROM:-0600
TZOFFSETTO:-0500
TZNAME:CDT
DTSTART:20230312T080000
END:DAYLIGHT
BEGIN:STANDARD
TZOFFSETFROM:-0500
TZOFFSETTO:-0600
TZNAME:CST
DTSTART:20231105T070000
END:STANDARD
BEGIN:DAYLIGHT
TZOFFSETFROM:-0600
TZOFFSETTO:-0500
TZNAME:CDT
DTSTART:20240310T080000
END:DAYLIGHT
BEGIN:STANDARD
TZOFFSETFROM:-0500
TZOFFSETTO:-0600
TZNAME:CST
DTSTART:20241103T070000
END:STANDARD
END:VTIMEZONE
BEGIN:VEVENT
DTSTART;TZID=America/Chicago:20230619T080000
DTEND;TZID=America/Chicago:20230619T160000
DTSTAMP:20260421T140837
CREATED:20230611T184059Z
LAST-MODIFIED:20230611T184059Z
UID:14893-1687161600-1687190400@agapetactical.com
SUMMARY:Security Vulnerability Assessment
DESCRIPTION:Security Vulnerability Assessments: Agape Tactical specializes in performing comprehensive\, on-site security vulnerability assessments of property\, procedures\, and systems for faith-based organizations and businesses. The findings are presented orally with an accompanying executive PowerPoint presentation and will include customized security recommendations for areas such as access control\, safety team response\, children’s ministry\, offering\, fire and life safety\, staff and volunteers\, week day programs\, and grounds and facilities. The presentation of findings and recommendations may be audio and/or video recorded for documentation and continued reference. Cost: $150 per man hour. \nFor more information\, or to schedule your SVA\, please contact Ken Alexandrow at 615-438-9017.
URL:https://agapetactical.com/class-calendar/security-vulnerability-assessment-4/
LOCATION:TN
CATEGORIES:Active Shooter Response,Church Security Training
END:VEVENT
END:VCALENDAR