BEGIN:VCALENDAR
VERSION:2.0
PRODID:-//Agape Tactical - ECPv6.15.20//NONSGML v1.0//EN
CALSCALE:GREGORIAN
METHOD:PUBLISH
X-WR-CALNAME:Agape Tactical
X-ORIGINAL-URL:https://agapetactical.com
X-WR-CALDESC:Events for Agape Tactical
REFRESH-INTERVAL;VALUE=DURATION:PT1H
X-Robots-Tag:noindex
X-PUBLISHED-TTL:PT1H
BEGIN:VTIMEZONE
TZID:America/Chicago
BEGIN:DAYLIGHT
TZOFFSETFROM:-0600
TZOFFSETTO:-0500
TZNAME:CDT
DTSTART:20220313T080000
END:DAYLIGHT
BEGIN:STANDARD
TZOFFSETFROM:-0500
TZOFFSETTO:-0600
TZNAME:CST
DTSTART:20221106T070000
END:STANDARD
BEGIN:DAYLIGHT
TZOFFSETFROM:-0600
TZOFFSETTO:-0500
TZNAME:CDT
DTSTART:20230312T080000
END:DAYLIGHT
BEGIN:STANDARD
TZOFFSETFROM:-0500
TZOFFSETTO:-0600
TZNAME:CST
DTSTART:20231105T070000
END:STANDARD
BEGIN:DAYLIGHT
TZOFFSETFROM:-0600
TZOFFSETTO:-0500
TZNAME:CDT
DTSTART:20240310T080000
END:DAYLIGHT
BEGIN:STANDARD
TZOFFSETFROM:-0500
TZOFFSETTO:-0600
TZNAME:CST
DTSTART:20241103T070000
END:STANDARD
END:VTIMEZONE
BEGIN:VEVENT
DTSTART;TZID=America/Chicago:20230620T093000
DTEND;TZID=America/Chicago:20230620T113000
DTSTAMP:20260421T140710
CREATED:20230528T011120Z
LAST-MODIFIED:20230528T011120Z
UID:14763-1687253400-1687260600@agapetactical.com
SUMMARY:Women's Gun Club - HC
DESCRIPTION:Agape Tactical trains women’s groups to respond to a wide variety of incidents utilizing the entire force continuum including self-defense\, situational awareness\, deterrence and prevention\, verbal de-escalation and firearms training. Women’s groups include church groups\, neighborhood groups\, mothers day out and more. For more information about starting your training group please contact Dawn Bradley at 615-579-6540.
URL:https://agapetactical.com/class-calendar/womens-gun-club-hc-2/
LOCATION:TN
END:VEVENT
END:VCALENDAR