BEGIN:VCALENDAR
VERSION:2.0
PRODID:-//Agape Tactical - ECPv6.15.20//NONSGML v1.0//EN
CALSCALE:GREGORIAN
METHOD:PUBLISH
X-ORIGINAL-URL:https://agapetactical.com
X-WR-CALDESC:Events for Agape Tactical
REFRESH-INTERVAL;VALUE=DURATION:PT1H
X-Robots-Tag:noindex
X-PUBLISHED-TTL:PT1H
BEGIN:VTIMEZONE
TZID:UTC
BEGIN:STANDARD
TZOFFSETFROM:+0000
TZOFFSETTO:+0000
TZNAME:UTC
DTSTART:20250101T000000
END:STANDARD
END:VTIMEZONE
BEGIN:VEVENT
DTSTART;TZID=UTC:20260503T130000
DTEND;TZID=UTC:20260503T180000
DTSTAMP:20260422T133221
CREATED:20260324T005328Z
LAST-MODIFIED:20260324T005341Z
UID:18988-1777813200-1777831200@agapetactical.com
SUMMARY:Warrior Woman Self-Defense - Private
DESCRIPTION:Content is protected.
URL:https://agapetactical.com/class-calendar/warrior-woman-self-defense-05-3-26/
LOCATION:TN
CATEGORIES:Warrior Woman,Warrior Woman Self-Defense
END:VEVENT
END:VCALENDAR